BEGIN:VCALENDAR
VERSION:2.0
PRODID:-//Tukios.com/
BEGIN:VEVENT
UID:904524e7-3e4f-433e-a1f5-5761fe1ec7b8@www.vincentfuneralhome.net
DTSTAMP:20260421T204800Z
DTSTART:20260423T140000Z
DTEND:20260423T190000Z
SUMMARY:Visitation
DESCRIPTION:
URL:https://www.vincentfuneralhome.net/obituaries/alfred-duhon-jr
LOCATION:Vincent Funeral Home 300 N Eleazar Ave  Kaplan LA 70548
GEO:30.0050213;-92.3002448
END:VEVENT
END:VCALENDAR