BEGIN:VCALENDAR
VERSION:2.0
PRODID:-//Tukios.com/
BEGIN:VEVENT
UID:be74015d-7d0c-4b09-a65f-9097a1fbf56e@www.vincentfuneralhome.net
DTSTAMP:20260421T204446Z
DTSTART:20260423T153000Z
DTEND:20260423T160000Z
SUMMARY:Rosary
DESCRIPTION:
URL:https://www.vincentfuneralhome.net/obituaries/alfred-duhon-jr
LOCATION: 300 N Eleazar Ave  Kaplan LA 70548
GEO:30.0050213;-92.3002448
END:VEVENT
END:VCALENDAR