BEGIN:VCALENDAR
VERSION:2.0
PRODID:-//Tukios.com/
BEGIN:VEVENT
UID:ed63fcc0-2f6b-4546-a477-b9bc0bb2d042@www.vincentfuneralhome.net
DTSTAMP:20260421T204912Z
DTSTART:20260423T193000Z
DTEND:20260423T200000Z
SUMMARY:Burial
DESCRIPTION:
URL:https://www.vincentfuneralhome.net/obituaries/alfred-duhon-jr
LOCATION: American Legion Road  Kaplan LA 70548
GEO:30.015811;-92.284071
END:VEVENT
END:VCALENDAR