BEGIN:VCALENDAR
VERSION:2.0
PRODID:-//Tukios.com/
BEGIN:VEVENT
UID:85b1e976-d112-418f-878a-b0fc7598998e@www.vincentfuneralhome.net
DTSTAMP:20260421T042649Z
DTSTART:20260423T190000Z
DTEND:20260423T193000Z
SUMMARY:Funeral Service
DESCRIPTION:
URL:https://www.vincentfuneralhome.net/obituaries/bradley-romero
LOCATION: 209 S St Charles St  Abbeville LA 70510
GEO:29.9720676;-92.1346536
END:VEVENT
END:VCALENDAR