BEGIN:VCALENDAR
VERSION:2.0
PRODID:-//Tukios.com/
BEGIN:VEVENT
UID:1c82cd45-1f55-4ab9-875e-c22b3bee41e4@www.vincentfuneralhome.net
DTSTAMP:20260421T042621Z
DTSTART:20260423T200000Z
DTEND:20260423T201500Z
SUMMARY:Burial
DESCRIPTION:
URL:https://www.vincentfuneralhome.net/obituaries/bradley-romero
LOCATION: 18314 Live Oak Rd  Abbeville LA 70510
GEO:29.8847253;-92.1245462
END:VEVENT
END:VCALENDAR