BEGIN:VCALENDAR
VERSION:2.0
PRODID:-//Tukios.com/
BEGIN:VEVENT
UID:3a1d25c6-a5cc-41b7-b77a-a60f449d9f77@www.vincentfuneralhome.net
DTSTAMP:20260424T222809Z
DTSTART:20260427T140000Z
DTEND:20260427T173000Z
SUMMARY:Visitation
DESCRIPTION:
URL:https://www.vincentfuneralhome.net/obituaries/junell-bruno
LOCATION: 209 S St Charles St  Abbeville LA 70510
GEO:29.9720676;-92.1346536
END:VEVENT
END:VCALENDAR