BEGIN:VCALENDAR
VERSION:2.0
PRODID:-//Tukios.com/
BEGIN:VEVENT
UID:efebd86d-74b4-4f31-8f42-179fcebd95f7@www.vincentfuneralhome.net
DTSTAMP:20260424T222050Z
DTSTART:20260427T150000Z
DTEND:20260427T153000Z
SUMMARY:Rosary
DESCRIPTION:
URL:https://www.vincentfuneralhome.net/obituaries/junell-bruno
LOCATION: 209 S St Charles St  Abbeville LA 70510
GEO:29.9720676;-92.1346536
END:VEVENT
END:VCALENDAR