BEGIN:VCALENDAR
VERSION:2.0
PRODID:-//Tukios.com/
BEGIN:VEVENT
UID:e908f13a-17c2-478a-82bf-db1f95e7715a@www.vincentfuneralhome.net
DTSTAMP:20260424T222748Z
DTSTART:20260427T180000Z
DTEND:20260427T190000Z
SUMMARY:Mass
DESCRIPTION:
URL:https://www.vincentfuneralhome.net/obituaries/junell-bruno
LOCATION: 21125 LA-333 Abbeville LA  Esther LA 70510
GEO:29.8439763;-92.1737667
END:VEVENT
END:VCALENDAR