BEGIN:VCALENDAR
VERSION:2.0
PRODID:-//Tukios.com/
BEGIN:VEVENT
UID:20b3f4ca-7e05-4be5-8ff6-207a85c40183@www.vincentfuneralhome.net
DTSTAMP:20260423T004150Z
DTSTART:20260424T000000Z
DTEND:20260424T003000Z
SUMMARY:Rosary
DESCRIPTION:
URL:https://www.vincentfuneralhome.net/obituaries/lona-richard
LOCATION: 300 N Eleazar Ave  Kaplan LA 70548
GEO:30.0050213;-92.3002448
END:VEVENT
END:VCALENDAR