BEGIN:VCALENDAR
VERSION:2.0
PRODID:-//Tukios.com/
BEGIN:VEVENT
UID:94b89bee-05e2-403e-aeb1-68b56e182a24@www.vincentfuneralhome.net
DTSTAMP:20260423T004227Z
DTSTART:20260424T130000Z
DTEND:20260424T160000Z
SUMMARY:Visitation
DESCRIPTION:
URL:https://www.vincentfuneralhome.net/obituaries/lona-richard
LOCATION: 300 N Eleazar Ave  Kaplan LA 70548
GEO:30.0050213;-92.3002448
END:VEVENT
END:VCALENDAR