BEGIN:VCALENDAR
VERSION:2.0
PRODID:-//Tukios.com/
BEGIN:VEVENT
UID:fb6d0402-783e-4220-8551-3eee8db58052@www.vincentfuneralhome.net
DTSTAMP:20260423T003819Z
DTSTART:20260424T160000Z
DTEND:20260424T163000Z
SUMMARY:Funeral Service
DESCRIPTION:
URL:https://www.vincentfuneralhome.net/obituaries/lona-richard
LOCATION: 300 N Eleazar Ave  Kaplan LA 70548
GEO:30.0050213;-92.3002448
END:VEVENT
END:VCALENDAR