BEGIN:VCALENDAR
VERSION:2.0
PRODID:-//Tukios.com/
BEGIN:VEVENT
UID:42d95a0e-697e-4119-b94f-19e929285f30@www.vincentfuneralhome.net
DTSTAMP:20260423T003948Z
DTSTART:20260424T170000Z
DTEND:20260424T173000Z
SUMMARY:Burial
DESCRIPTION:
URL:https://www.vincentfuneralhome.net/obituaries/lona-richard
LOCATION: 13009 HWY 3093  Kaplan LA 70548
GEO:29.977486;-92.4118409
END:VEVENT
END:VCALENDAR