BEGIN:VCALENDAR
VERSION:2.0
PRODID:-//Tukios.com/
BEGIN:VEVENT
UID:ee3fb3ee-612b-4572-8a27-87f17b6d7ad4@www.vincentfuneralhome.net
DTSTAMP:20260423T223356Z
DTSTART:20260430T210000Z
DTEND:20260501T020000Z
SUMMARY:Visitation
DESCRIPTION:
URL:https://www.vincentfuneralhome.net/obituaries/marcelle-trahan
LOCATION: 209 S St Charles St  Abbeville LA 70510
GEO:29.9720676;-92.1346536
END:VEVENT
END:VCALENDAR