BEGIN:VCALENDAR
VERSION:2.0
PRODID:-//Tukios.com/
BEGIN:VEVENT
UID:91d14259-3a99-4304-8973-3f53943f0e85@www.vincentfuneralhome.net
DTSTAMP:20260423T223904Z
DTSTART:20260501T130000Z
DTEND:20260501T150000Z
SUMMARY:Visitation
DESCRIPTION:
URL:https://www.vincentfuneralhome.net/obituaries/marcelle-trahan
LOCATION: 209 S St Charles St  Abbeville LA 70510
GEO:29.9720676;-92.1346536
END:VEVENT
END:VCALENDAR