BEGIN:VCALENDAR
VERSION:2.0
PRODID:-//Tukios.com/
BEGIN:VEVENT
UID:281c9933-baee-48e8-a9fc-b31e87567309@www.vincentfuneralhome.net
DTSTAMP:20260423T223951Z
DTSTART:20260501T153000Z
DTEND:20260501T163000Z
SUMMARY:Mass
DESCRIPTION:
URL:https://www.vincentfuneralhome.net/obituaries/marcelle-trahan
LOCATION: 300 Pere Megret Street  Abbeville LA 70510
GEO:29.9747254;-92.1378464
END:VEVENT
END:VCALENDAR