BEGIN:VCALENDAR
VERSION:2.0
PRODID:-//Tukios.com/
BEGIN:VEVENT
UID:019f8b68-d108-4333-9b27-edd68ba80a7c@www.vincentfuneralhome.net
DTSTAMP:20260423T224331Z
DTSTART:20260501T173000Z
DTEND:20260501T174500Z
SUMMARY:Burial
DESCRIPTION:
URL:https://www.vincentfuneralhome.net/obituaries/marcelle-trahan
LOCATION:St. Alphonsus Catholic Cemetery 8700 Maurice Avenue  Maurice LA 
	70555
GEO:30.1068063;-92.1256922
END:VEVENT
END:VCALENDAR