BEGIN:VCALENDAR
VERSION:2.0
PRODID:-//Tukios.com/
BEGIN:VEVENT
UID:483e9cb1-e649-4bb5-8007-146e73922444@www.vincentfuneralhome.net
DTSTAMP:20260421T204129Z
DTSTART:20260423T200000Z
DTEND:20260424T020000Z
SUMMARY:Visitation
DESCRIPTION:
URL:https://www.vincentfuneralhome.net/obituaries/warren-whaley-sr
LOCATION:Vincent Funeral Home 300 N Eleazar Ave  Kaplan LA 70548
GEO:30.0050213;-92.3002448
END:VEVENT
END:VCALENDAR