BEGIN:VCALENDAR
VERSION:2.0
PRODID:-//Tukios.com/
BEGIN:VEVENT
UID:2264d589-6bce-4f20-9552-ec80a8254433@www.vincentfuneralhome.net
DTSTAMP:20260421T203948Z
DTSTART:20260424T180000Z
DTEND:20260424T190000Z
SUMMARY:Mass
DESCRIPTION:
URL:https://www.vincentfuneralhome.net/obituaries/warren-whaley-sr
LOCATION:Our Lady of the Most Holy Rosary Roman Catholic Church 600 
	Church Avenue  Kaplan LA 70548
GEO:30.003558;-92.2870179
END:VEVENT
END:VCALENDAR