BEGIN:VCALENDAR
VERSION:2.0
PRODID:-//Tukios.com/
BEGIN:VEVENT
UID:53983188-ee2b-4ca6-8d13-53946ac9e745@www.vincentfuneralhome.net
DTSTAMP:20260421T204135Z
DTSTART:20260424T150000Z
DTEND:20260424T153000Z
SUMMARY:Rosary
DESCRIPTION:
URL:https://www.vincentfuneralhome.net/obituaries/warren-whaley-sr
LOCATION: 300 N Eleazar Ave  Kaplan LA 70548
GEO:30.0050213;-92.3002448
END:VEVENT
END:VCALENDAR